BEGIN:VCALENDAR
VERSION:2.0
PRODID:-//Bay-O-Vista Swim &amp; Tennis Club - ECPv6.15.20//NONSGML v1.0//EN
CALSCALE:GREGORIAN
METHOD:PUBLISH
X-WR-CALNAME:Bay-O-Vista Swim &amp; Tennis Club
X-ORIGINAL-URL:https://bovswim.com
X-WR-CALDESC:Events for Bay-O-Vista Swim &amp; Tennis Club
REFRESH-INTERVAL;VALUE=DURATION:PT1H
X-Robots-Tag:noindex
X-PUBLISHED-TTL:PT1H
BEGIN:VTIMEZONE
TZID:America/Los_Angeles
BEGIN:DAYLIGHT
TZOFFSETFROM:-0800
TZOFFSETTO:-0700
TZNAME:PDT
DTSTART:20240310T100000
END:DAYLIGHT
BEGIN:STANDARD
TZOFFSETFROM:-0700
TZOFFSETTO:-0800
TZNAME:PST
DTSTART:20241103T090000
END:STANDARD
BEGIN:DAYLIGHT
TZOFFSETFROM:-0800
TZOFFSETTO:-0700
TZNAME:PDT
DTSTART:20250309T100000
END:DAYLIGHT
BEGIN:STANDARD
TZOFFSETFROM:-0700
TZOFFSETTO:-0800
TZNAME:PST
DTSTART:20251102T090000
END:STANDARD
BEGIN:DAYLIGHT
TZOFFSETFROM:-0800
TZOFFSETTO:-0700
TZNAME:PDT
DTSTART:20260308T100000
END:DAYLIGHT
BEGIN:STANDARD
TZOFFSETFROM:-0700
TZOFFSETTO:-0800
TZNAME:PST
DTSTART:20261101T090000
END:STANDARD
END:VTIMEZONE
BEGIN:VEVENT
DTSTART;TZID=America/Los_Angeles:20250624T090000
DTEND;TZID=America/Los_Angeles:20250624T100000
DTSTAMP:20260420T041455
CREATED:20250624T060536Z
LAST-MODIFIED:20250624T060536Z
UID:10013240-1750755600-1750759200@bovswim.com
SUMMARY:Strength & Power - Jennifer K
DESCRIPTION:For those looking for a challenging strength workout! Cardio bursts and resistance training are beneficial for all participants\, helping to increase bone density\, heart health and metabolism while improving strength and endurance.
URL:https://bovswim.com/event/strength-power-jennifer-k/
END:VEVENT
END:VCALENDAR