BEGIN:VCALENDAR
VERSION:2.0
PRODID:-//Bay-O-Vista Swim &amp; Tennis Club - ECPv6.15.20//NONSGML v1.0//EN
CALSCALE:GREGORIAN
METHOD:PUBLISH
X-WR-CALNAME:Bay-O-Vista Swim &amp; Tennis Club
X-ORIGINAL-URL:https://bovswim.com
X-WR-CALDESC:Events for Bay-O-Vista Swim &amp; Tennis Club
REFRESH-INTERVAL;VALUE=DURATION:PT1H
X-Robots-Tag:noindex
X-PUBLISHED-TTL:PT1H
BEGIN:VTIMEZONE
TZID:America/Los_Angeles
BEGIN:DAYLIGHT
TZOFFSETFROM:-0800
TZOFFSETTO:-0700
TZNAME:PDT
DTSTART:20240310T100000
END:DAYLIGHT
BEGIN:STANDARD
TZOFFSETFROM:-0700
TZOFFSETTO:-0800
TZNAME:PST
DTSTART:20241103T090000
END:STANDARD
BEGIN:DAYLIGHT
TZOFFSETFROM:-0800
TZOFFSETTO:-0700
TZNAME:PDT
DTSTART:20250309T100000
END:DAYLIGHT
BEGIN:STANDARD
TZOFFSETFROM:-0700
TZOFFSETTO:-0800
TZNAME:PST
DTSTART:20251102T090000
END:STANDARD
BEGIN:DAYLIGHT
TZOFFSETFROM:-0800
TZOFFSETTO:-0700
TZNAME:PDT
DTSTART:20260308T100000
END:DAYLIGHT
BEGIN:STANDARD
TZOFFSETFROM:-0700
TZOFFSETTO:-0800
TZNAME:PST
DTSTART:20261101T090000
END:STANDARD
END:VTIMEZONE
BEGIN:VEVENT
DTSTART;TZID=America/Los_Angeles:20250624T120000
DTEND;TZID=America/Los_Angeles:20250624T130000
DTSTAMP:20260420T153139
CREATED:20250624T060537Z
LAST-MODIFIED:20250624T060537Z
UID:10013245-1750766400-1750770000@bovswim.com
SUMMARY:Pop Pilates - Stephanie
DESCRIPTION:These pilates classes will target the core muscles surrounding your spine and make you stronger all around. Class could include the use of equipment such as dumbbells\, tubing\, gliders\, and balls for challenging sequences that will improve your overall stability\, mobility and flexibility!
URL:https://bovswim.com/event/pop-pilates-stephanie/
END:VEVENT
BEGIN:VEVENT
DTSTART;TZID=America/Los_Angeles:20250624T111500
DTEND;TZID=America/Los_Angeles:20250624T133000
DTSTAMP:20260420T153139
CREATED:20250624T060537Z
LAST-MODIFIED:20250624T072959Z
UID:10013243-1750763700-1750771800@bovswim.com
SUMMARY:Pickleball Drop-In: Advanced play
DESCRIPTION:
URL:https://bovswim.com/event/pickleball-drop-in-advanced-play/
CATEGORIES:Pickleball
END:VEVENT
BEGIN:VEVENT
DTSTART;TZID=America/Los_Angeles:20250624T100000
DTEND;TZID=America/Los_Angeles:20250624T110000
DTSTAMP:20260420T153139
CREATED:20250624T060536Z
LAST-MODIFIED:20250624T060537Z
UID:10013241-1750759200-1750762800@bovswim.com
SUMMARY:Flow Yoga Zoom - Dallis
DESCRIPTION:Learn to incorporate deep breathing during flow yoga stretches and postures (asanas) that are perfect for beginners and experienced yogis alike. It is not necessary to have yoga experience for this class\, just come and enjoy some therapeutic movement\, improve your circulation\, flexibility and balance through mindful movement.  Meeting Code: 831-3018-7477
URL:https://bovswim.com/event/flow-yoga-zoom-dallis/
END:VEVENT
BEGIN:VEVENT
DTSTART;TZID=America/Los_Angeles:20250624T100000
DTEND;TZID=America/Los_Angeles:20250624T110000
DTSTAMP:20260420T153139
CREATED:20250624T060536Z
LAST-MODIFIED:20250624T060537Z
UID:10013242-1750759200-1750762800@bovswim.com
SUMMARY:Gentle Fitness
DESCRIPTION:Focus on mobility\, strength\, and fall prevention. This class is ideal for injury recovery or those seeking a joint-friendly\, comprehensive workout.
URL:https://bovswim.com/event/gentle-fitness/
END:VEVENT
BEGIN:VEVENT
DTSTART;TZID=America/Los_Angeles:20250624T090000
DTEND;TZID=America/Los_Angeles:20250624T100000
DTSTAMP:20260420T153139
CREATED:20250624T060536Z
LAST-MODIFIED:20250624T060536Z
UID:10013240-1750755600-1750759200@bovswim.com
SUMMARY:Strength & Power - Jennifer K
DESCRIPTION:For those looking for a challenging strength workout! Cardio bursts and resistance training are beneficial for all participants\, helping to increase bone density\, heart health and metabolism while improving strength and endurance.
URL:https://bovswim.com/event/strength-power-jennifer-k/
END:VEVENT
END:VCALENDAR